BEGIN:VCALENDAR
VERSION:2.0
PRODID:-//Vue Grand Hotel - ECPv6.15.20//NONSGML v1.0//EN
CALSCALE:GREGORIAN
METHOD:PUBLISH
X-WR-CALNAME:Vue Grand Hotel
X-ORIGINAL-URL:https://vuegrand.com.au
X-WR-CALDESC:Events for Vue Grand Hotel
REFRESH-INTERVAL;VALUE=DURATION:PT1H
X-Robots-Tag:noindex
X-PUBLISHED-TTL:PT1H
BEGIN:VTIMEZONE
TZID:Australia/Melbourne
BEGIN:STANDARD
TZOFFSETFROM:+1100
TZOFFSETTO:+1000
TZNAME:AEST
DTSTART:20180331T160000
END:STANDARD
BEGIN:DAYLIGHT
TZOFFSETFROM:+1000
TZOFFSETTO:+1100
TZNAME:AEDT
DTSTART:20181006T160000
END:DAYLIGHT
BEGIN:STANDARD
TZOFFSETFROM:+1100
TZOFFSETTO:+1000
TZNAME:AEST
DTSTART:20190406T160000
END:STANDARD
BEGIN:DAYLIGHT
TZOFFSETFROM:+1000
TZOFFSETTO:+1100
TZNAME:AEDT
DTSTART:20191005T160000
END:DAYLIGHT
BEGIN:STANDARD
TZOFFSETFROM:+1100
TZOFFSETTO:+1000
TZNAME:AEST
DTSTART:20200404T160000
END:STANDARD
BEGIN:DAYLIGHT
TZOFFSETFROM:+1000
TZOFFSETTO:+1100
TZNAME:AEDT
DTSTART:20201003T160000
END:DAYLIGHT
BEGIN:STANDARD
TZOFFSETFROM:+1100
TZOFFSETTO:+1000
TZNAME:AEST
DTSTART:20210403T160000
END:STANDARD
BEGIN:DAYLIGHT
TZOFFSETFROM:+1000
TZOFFSETTO:+1100
TZNAME:AEDT
DTSTART:20211002T160000
END:DAYLIGHT
BEGIN:STANDARD
TZOFFSETFROM:+1100
TZOFFSETTO:+1000
TZNAME:AEST
DTSTART:20220402T160000
END:STANDARD
BEGIN:DAYLIGHT
TZOFFSETFROM:+1000
TZOFFSETTO:+1100
TZNAME:AEDT
DTSTART:20221001T160000
END:DAYLIGHT
BEGIN:STANDARD
TZOFFSETFROM:+1100
TZOFFSETTO:+1000
TZNAME:AEST
DTSTART:20230401T160000
END:STANDARD
BEGIN:DAYLIGHT
TZOFFSETFROM:+1000
TZOFFSETTO:+1100
TZNAME:AEDT
DTSTART:20230930T160000
END:DAYLIGHT
BEGIN:STANDARD
TZOFFSETFROM:+1100
TZOFFSETTO:+1000
TZNAME:AEST
DTSTART:20240406T160000
END:STANDARD
BEGIN:DAYLIGHT
TZOFFSETFROM:+1000
TZOFFSETTO:+1100
TZNAME:AEDT
DTSTART:20241005T160000
END:DAYLIGHT
BEGIN:STANDARD
TZOFFSETFROM:+1100
TZOFFSETTO:+1000
TZNAME:AEST
DTSTART:20250405T160000
END:STANDARD
BEGIN:DAYLIGHT
TZOFFSETFROM:+1000
TZOFFSETTO:+1100
TZNAME:AEDT
DTSTART:20251004T160000
END:DAYLIGHT
BEGIN:STANDARD
TZOFFSETFROM:+1100
TZOFFSETTO:+1000
TZNAME:AEST
DTSTART:20260404T160000
END:STANDARD
BEGIN:DAYLIGHT
TZOFFSETFROM:+1000
TZOFFSETTO:+1100
TZNAME:AEDT
DTSTART:20261003T160000
END:DAYLIGHT
BEGIN:STANDARD
TZOFFSETFROM:+1100
TZOFFSETTO:+1000
TZNAME:AEST
DTSTART:20270403T160000
END:STANDARD
BEGIN:DAYLIGHT
TZOFFSETFROM:+1000
TZOFFSETTO:+1100
TZNAME:AEDT
DTSTART:20271002T160000
END:DAYLIGHT
END:VTIMEZONE
BEGIN:VEVENT
DTSTART;VALUE=DATE:20260117
DTEND;VALUE=DATE:20260118
DTSTAMP:20260418T114556
CREATED:20251201T174145Z
LAST-MODIFIED:20251201T174145Z
UID:1059-1768608000-1768694399@vuegrand.com.au
SUMMARY:Ron Vincent sings Cat Stevens
DESCRIPTION:Concert of the Music of Cat Stevens Performed by Ron Vincent\, Two Hour Show with intermission.\nDoors open 2.30pm\nShow 3 – 5pm
URL:https://vuegrand.com.au/event/ron-vincent-sings-cat-stevens/
ATTACH;FMTTYPE=image/jpeg:https://vuegrand.com.au/wp-content/uploads/2025/12/CS-17-JAN-QC-1-scaled.jpg
END:VEVENT
BEGIN:VEVENT
DTSTART;VALUE=DATE:20260117
DTEND;VALUE=DATE:20260118
DTSTAMP:20260418T114556
CREATED:20251201T173739Z
LAST-MODIFIED:20251201T173739Z
UID:1056-1768608000-1768694399@vuegrand.com.au
SUMMARY:In Concert the Music of Neil Diamond
DESCRIPTION:Contemporary Start to showcase the Diversity of Neil Diamond’s Music \, To Finish with The Exciting 72′ Hot August Night Experience\, Performance with intermission band and Singers\n\n \n\nDoors 7.30pm\n\n \n\nShow 8pm
URL:https://vuegrand.com.au/event/in-concert-the-music-of-neil-diamond-3/
ATTACH;FMTTYPE=image/jpeg:https://vuegrand.com.au/wp-content/uploads/2025/12/JAN-Vue-Grand-Queenscliff-scaled.jpg
END:VEVENT
BEGIN:VEVENT
DTSTART;TZID=Australia/Melbourne:20250621T200000
DTEND;TZID=Australia/Melbourne:20250621T220000
DTSTAMP:20260418T114556
CREATED:20250515T114339Z
LAST-MODIFIED:20250515T214655Z
UID:1028-1750536000-1750543200@vuegrand.com.au
SUMMARY:In Concert the Music of Neil Diamond
DESCRIPTION:Doors will open 30 minutes prior to the shows start time. It will be a seated event however seats are not allocated; it will be first in best dressed.\nBOOK NOW
URL:https://vuegrand.com.au/event/in-concert-the-music-of-neil-diamond-2/
ATTACH;FMTTYPE=image/jpeg:https://vuegrand.com.au/wp-content/uploads/2025/05/neil-diamond.jpg
END:VEVENT
BEGIN:VEVENT
DTSTART;TZID=Australia/Melbourne:20250621T150000
DTEND;TZID=Australia/Melbourne:20250621T170000
DTSTAMP:20260418T114556
CREATED:20250515T113709Z
LAST-MODIFIED:20250515T113709Z
UID:1022-1750518000-1750525200@vuegrand.com.au
SUMMARY:Rod Vincent Sings Cat Stevens
DESCRIPTION:Doors will open 30 minutes prior to the shows start time. It will be a seated event however seats are not allocated; it will be first in best dressed.\nBOOK NOW
URL:https://vuegrand.com.au/event/rod-vincent-sings-cat-stevens-2/
ATTACH;FMTTYPE=image/jpeg:https://vuegrand.com.au/wp-content/uploads/2025/05/Cat-Stevens-show.jpg
END:VEVENT
BEGIN:VEVENT
DTSTART;VALUE=DATE:20250208
DTEND;VALUE=DATE:20250210
DTSTAMP:20260418T114556
CREATED:20241126T115909Z
LAST-MODIFIED:20241126T120942Z
UID:988-1739012400-1739098799@vuegrand.com.au
SUMMARY:Rod Vincent Sings Cat Stevens
DESCRIPTION:Doors Open 7.30pm\nShow 8pm\nBOOK NOW
URL:https://vuegrand.com.au/event/rod-vincent-sings-cat-stevens/
ATTACH;FMTTYPE=image/jpeg:https://vuegrand.com.au/wp-content/uploads/2024/11/Rod-Vincent-scaled.jpg
END:VEVENT
BEGIN:VEVENT
DTSTART;VALUE=DATE:20241102
DTEND;VALUE=DATE:20241104
DTSTAMP:20260418T114556
CREATED:20240825T134223Z
LAST-MODIFIED:20240825T134451Z
UID:971-1730545200-1730631599@vuegrand.com.au
SUMMARY:In Concert the Music of Neil Diamond
DESCRIPTION:About \nA Concert of the Music of Neil Diamond\nSet in the Beautiful Main Hall at the Vue Grand Hotel Queenscliff\, 2 x45 min Set’s with a 20 min interval covering the Music of Neil Diamond with a 6 piece Band ! \n\n\nDate \nSaturday 2 November 2024 8:00 PM – 9:00 PM (UTC+10) \n\n\nLocation \n\n\nVue Grand Hotel Queenscliff Victoria\n46 Hesse st Queenscliff\, Victoria \, Queenscliff Vic 3939 \nBOOK NOW
URL:https://vuegrand.com.au/event/in-concert-the-music-of-neil-diamond/
END:VEVENT
BEGIN:VEVENT
DTSTART;VALUE=DATE:20240512
DTEND;VALUE=DATE:20240514
DTSTAMP:20260418T114556
CREATED:20240227T111145Z
LAST-MODIFIED:20240415T195203Z
UID:876-1715508000-1715594399@vuegrand.com.au
SUMMARY:Mother’s Day High Tea
DESCRIPTION:Vue Grand Dining Room
URL:https://vuegrand.com.au/event/mothers-day-high-tea/
LOCATION:GRAND DINING ROOM\, 46-48 Hesse Street\, Queenscliff\, Victoria\, Australia
END:VEVENT
BEGIN:VEVENT
DTSTART;VALUE=DATE:20190710
DTEND;VALUE=DATE:20190712
DTSTAMP:20260418T114556
CREATED:20190523T030611Z
LAST-MODIFIED:20190523T030611Z
UID:417-1562752800-1562839199@vuegrand.com.au
SUMMARY:Q Train
DESCRIPTION:A couple of years ago\, two blokes who’d worked with trains for the  better part of 50 years purchased several historic carriages from  Queensland Rail. They sought the expertise of a hospitality pundit\, and  then our team was born. We’ve spent the last year or so refurbishing the  old carriages\, and have transformed a part of the old “Sunlander” into a  new boutique rail restaurant called “The Q Train”. How’s that for  recycling?! \nIf you live around the Bellarine area\, you may have seen us working on restoring the carriages over the last 12 months. \nAs long term homeowners on the Bellarine Peninsula\, we have dreamed  of creating a Restaurant Train to showcase the beautiful Bellarine and  Swan Bay scenery\, whilst offering premium local food and beverages. The Q  Train is the realisation of this and we are proud to share this vision  with Geelong\, The Bellarine and beyond!
URL:https://vuegrand.com.au/event/q-train/
LOCATION:GRAND DINING ROOM\, 46-48 Hesse Street\, Queenscliff\, Victoria\, Australia
ATTACH;FMTTYPE=image/jpeg:https://vuegrand.com.au/wp-content/uploads/2019/04/1h-the-q-train-dine-stay.jpg
END:VEVENT
BEGIN:VEVENT
DTSTART;VALUE=DATE:20190701
DTEND;VALUE=DATE:20190703
DTSTAMP:20260418T114556
CREATED:20190523T030037Z
LAST-MODIFIED:20190523T030301Z
UID:413-1561975200-1562061599@vuegrand.com.au
SUMMARY:The Blues Train
DESCRIPTION:The Blues Train has been rockin’ the rails since 1994. We started small\, inspired by stories of the old blues masters jamming on Mississippi freight trains. The Blues music and train travel combo was so much fun we kept going\, putting on more shows\, attracting great blues musos and entertaining more and more people from all around the world. These days over 10\,000 people enjoy The Blues Train every year. \n\n\n\nOf course there would be no Blues Train if if weren’t for the trains lovingly maintained and driven by the  wonderful volunteers at the Bellarine Railway. \n\n\n\nThere would also be no Blues Train if it weren’t for the blues music! In over two decades we’ve had more than one hundred acts (solo performers\, duos and full bands) do their thing in somewhat unusual conditions. They love playing on the train and that really comes out in their performances. \n\n\n\nThe Blues Train is run by the team at Bay City Events. Bay City Events specialises in event management\, corporate functions\, artistic programming\, product launches\, bar operations\, unique venues\, entertainment and festivals. \n\n\n\nContact us for packages which include two tickets on the blues train\, one nights accomodation for two and a full buffet breakfast.
URL:https://vuegrand.com.au/event/the-blues-train/
LOCATION:GRAND DINING ROOM\, 46-48 Hesse Street\, Queenscliff\, Victoria\, Australia
ATTACH;FMTTYPE=image/jpeg:https://vuegrand.com.au/wp-content/uploads/2019/04/bluestrain-e1538611169529.jpg
END:VEVENT
END:VCALENDAR